BEGIN:VCALENDAR
VERSION:2.0
PRODID:-//OAMGMAMR Filiala Argeș - ECPv5.9.1//NONSGML v1.0//EN
CALSCALE:GREGORIAN
METHOD:PUBLISH
X-WR-CALNAME:OAMGMAMR Filiala Argeș
X-ORIGINAL-URL:https://oammr-arges.ro
X-WR-CALDESC:Events for OAMGMAMR Filiala Argeș
BEGIN:VTIMEZONE
TZID:Europe/Moscow
BEGIN:STANDARD
TZOFFSETFROM:+0300
TZOFFSETTO:+0300
TZNAME:MSK
DTSTART:20240101T000000
END:STANDARD
END:VTIMEZONE
BEGIN:VEVENT
DTSTART;TZID=Europe/Moscow:20240522T153000
DTEND;TZID=Europe/Moscow:20240522T183000
DTSTAMP:20260421T154633
CREATED:20240514T124041Z
LAST-MODIFIED:20240521T190954Z
UID:3082-1716391800-1716402600@oammr-arges.ro
SUMMARY:CONFERINȚA JUDEȚEANĂ ”ZILELE ASISTENTULUI MEDICAL ARGEȘEAN” – ediția a XII-a
DESCRIPTION:
URL:https://oammr-arges.ro/event/anunt-inscriere-conferinta-judeteana-zilele-asistentului-medical-argesean-editia-a-xii-a/
LOCATION:Hotel Ramada\, str. Calea București nr. 31\, Pitesti\, Arges
CATEGORIES:Manifestari stiintifice
END:VEVENT
END:VCALENDAR