BEGIN:VCALENDAR
VERSION:2.0
PRODID:-//OAMGMAMR Filiala Argeș - ECPv5.9.1//NONSGML v1.0//EN
CALSCALE:GREGORIAN
METHOD:PUBLISH
X-WR-CALNAME:OAMGMAMR Filiala Argeș
X-ORIGINAL-URL:https://oammr-arges.ro
X-WR-CALDESC:Events for OAMGMAMR Filiala Argeș
BEGIN:VTIMEZONE
TZID:UTC
BEGIN:STANDARD
TZOFFSETFROM:+0000
TZOFFSETTO:+0000
TZNAME:UTC
DTSTART:20190101T000000
END:STANDARD
END:VTIMEZONE
BEGIN:VEVENT
DTSTART;TZID=UTC:20190517T153000
DTEND;TZID=UTC:20190517T153000
DTSTAMP:20260424T181249
CREATED:20190503T204053Z
LAST-MODIFIED:20190503T204053Z
UID:1282-1558107000-1558107000@oammr-arges.ro
SUMMARY:Conferința Județeană ZILELE ASISTENTULUI MEDICAL ARGEȘEAN 17.05.2019\, Pitești
DESCRIPTION:NOTA BENE:Primirea participanților se face în intervalul orar 15.00-15.30\nÎnscrierea se face o singură dată/participant\, într-o singură locație de desfășurare\nLocuri disponibile: 250\nTaxă participare: 0 lei\nNr. credite: 10\nLocație: Pitești\, Hotel Victoria
URL:https://oammr-arges.ro/event/conferinta-judeteana-zilele-asistentului-medical-argesean-17-05-2019-pitesti/
LOCATION:Pitești\, Hotel Victoria
CATEGORIES:Manifestari stiintifice
END:VEVENT
END:VCALENDAR