BEGIN:VCALENDAR
VERSION:2.0
PRODID:-//OAMGMAMR Filiala Argeș - ECPv5.9.1//NONSGML v1.0//EN
CALSCALE:GREGORIAN
METHOD:PUBLISH
X-WR-CALNAME:OAMGMAMR Filiala Argeș
X-ORIGINAL-URL:https://oammr-arges.ro
X-WR-CALDESC:Events for OAMGMAMR Filiala Argeș
BEGIN:VTIMEZONE
TZID:Europe/Moscow
BEGIN:STANDARD
TZOFFSETFROM:+0300
TZOFFSETTO:+0300
TZNAME:MSK
DTSTART:20230101T000000
END:STANDARD
END:VTIMEZONE
BEGIN:VEVENT
DTSTART;TZID=Europe/Moscow:20230512T153000
DTEND;TZID=Europe/Moscow:20230512T170000
DTSTAMP:20260422T012517
CREATED:20230502T111407Z
LAST-MODIFIED:20230503T054952Z
UID:2752-1683905400-1683910800@oammr-arges.ro
SUMMARY:CONFERINȚA JUDEȚEANĂ ”ZILELE ASISTENTULUI MEDICAL ARGEȘEAN” – ediția a XI-a
DESCRIPTION:Tema: ASISTENȚII NOȘTRI. VIITORUL NOSTRU\n\n\nData cursului: 12 MAI ora 15:30\n\n\nLocuri disponibile: 250\n\n\nÎnscrierea participanților se face până în data de 10.05.2023\,  ora 16.00\n\n\nLocație: Hotel Victoria\, str. Egalității nr. 21\, Pitești
URL:https://oammr-arges.ro/event/conferinta-judeteana-zilele-asistentului-medical-argesean-editia-a-x-a-2/
LOCATION:Pitești\, Hotel Victoria
CATEGORIES:Manifestari stiintifice
END:VEVENT
END:VCALENDAR