BEGIN:VCALENDAR
VERSION:2.0
PRODID:-//OAMGMAMR Filiala Argeș - ECPv5.9.1//NONSGML v1.0//EN
CALSCALE:GREGORIAN
METHOD:PUBLISH
X-WR-CALNAME:OAMGMAMR Filiala Argeș
X-ORIGINAL-URL:https://oammr-arges.ro
X-WR-CALDESC:Events for OAMGMAMR Filiala Argeș
BEGIN:VTIMEZONE
TZID:Europe/Moscow
BEGIN:STANDARD
TZOFFSETFROM:+0300
TZOFFSETTO:+0300
TZNAME:MSK
DTSTART:20240101T000000
END:STANDARD
END:VTIMEZONE
BEGIN:VEVENT
DTSTART;TZID=Europe/Moscow:20240514T150000
DTEND;TZID=Europe/Moscow:20240514T170000
DTSTAMP:20260421T170706
CREATED:20240426T160755Z
LAST-MODIFIED:20240510T091322Z
UID:2997-1715698800-1715706000@oammr-arges.ro
SUMMARY:Cursuri Sala - Mai\, 2024
DESCRIPTION:NOTĂ: CURSUL SE ADRESEAZĂ EXCLUSIV ASISTENȚILOR MEDICALI DIN CABINETELE MEDICALE ȘCOLARE DIN CADRUL DAS PITEȘTI \n\nTema: URGENȚE MEDICALE ÎN CABINETELE MEDICALE 14.05.2024 \nData cursului: 14.05.2024\, ora 15.00 \nLocuri disponibile: 30 \nNr. credite: 6 \n\nLocație: Sediul OAMGMAMR Argeș\, Pitești\, str. Victoriei nr. 57
URL:https://oammr-arges.ro/event/cursuri-mai/
LOCATION:Sediul OAMGMAMR Argeș\, Pitești\, str. Victoriei nr. 57\, România
CATEGORIES:Cursuri
END:VEVENT
END:VCALENDAR