BEGIN:VCALENDAR
VERSION:2.0
PRODID:-//OAMGMAMR Filiala Argeș - ECPv5.9.1//NONSGML v1.0//EN
CALSCALE:GREGORIAN
METHOD:PUBLISH
X-WR-CALNAME:OAMGMAMR Filiala Argeș
X-ORIGINAL-URL:https://oammr-arges.ro
X-WR-CALDESC:Events for OAMGMAMR Filiala Argeș
BEGIN:VTIMEZONE
TZID:Europe/Moscow
BEGIN:STANDARD
TZOFFSETFROM:+0300
TZOFFSETTO:+0300
TZNAME:MSK
DTSTART:20220101T000000
END:STANDARD
END:VTIMEZONE
BEGIN:VEVENT
DTSTART;TZID=Europe/Moscow:20220610T150000
DTEND;TZID=Europe/Moscow:20220610T170000
DTSTAMP:20260422T125454
CREATED:20220607T103739Z
LAST-MODIFIED:20220607T103739Z
UID:2452-1654873200-1654880400@oammr-arges.ro
SUMMARY:EMPATIA – CALEA OPTIMĂ DE COMUNICARE ÎNTRE ASISTENT ȘI PACIENT
DESCRIPTION:Ordinul Asistenților Medicali Generaliști\, Moașelor și Asistenților Medicali din România Filiala Argeș\, în parteneriat cu Spitalul Orășenesc MIOVENI\, organizează vineri\, 10 iunie 2022\, începând cu ora 15.00\, simpozionul \,\,EMPATIA – CALEA OPTIMĂ DE COMUNICARE ÎNTRE ASISTENT ȘI PACIENT”.
URL:https://oammr-arges.ro/event/empatia-calea-optima-de-comunicare-intre-asistent-si-pacient/
LOCATION:Mioveni\, Spitalul Orasenesc
CATEGORIES:Manifestari stiintifice
END:VEVENT
END:VCALENDAR