BEGIN:VCALENDAR
VERSION:2.0
PRODID:-//OAMGMAMR Filiala Argeș - ECPv5.9.1//NONSGML v1.0//EN
CALSCALE:GREGORIAN
METHOD:PUBLISH
X-WR-CALNAME:OAMGMAMR Filiala Argeș
X-ORIGINAL-URL:https://oammr-arges.ro
X-WR-CALDESC:Events for OAMGMAMR Filiala Argeș
BEGIN:VTIMEZONE
TZID:Europe/Moscow
BEGIN:STANDARD
TZOFFSETFROM:+0300
TZOFFSETTO:+0300
TZNAME:MSK
DTSTART:20230101T000000
END:STANDARD
END:VTIMEZONE
BEGIN:VEVENT
DTSTART;TZID=Europe/Moscow:20230612T153000
DTEND;TZID=Europe/Moscow:20230612T170000
DTSTAMP:20260421T223455
CREATED:20230601T184351Z
LAST-MODIFIED:20230601T184351Z
UID:2777-1686583800-1686589200@oammr-arges.ro
SUMMARY:”ÎMPREUNĂ PENTRU O GENERAȚIE SĂNĂTOASĂ!”\, ediția a X-a.
DESCRIPTION:Tema: ”ÎMPREUNĂ PENTRU O GENERAȚIE SĂNĂTOASĂ!”\, ediția a X-a.\n\n\nData cursului: 12 iunie ora 15:30\n\n\nLocuri disponibile: 250\n\n\nÎnscrierea participanților se face până în data de 10.06.2023\,  ora 16.00\n\n\nLocație: Hotel Ramada\, Pitești\, Calea București\, nr. 31.\n\n\n\n 
URL:https://oammr-arges.ro/event/impreuna-pentru-o-generatie-sanatoasa-editia-a-x-a/
CATEGORIES:Manifestari stiintifice
END:VEVENT
END:VCALENDAR