BEGIN:VCALENDAR
VERSION:2.0
PRODID:-//OAMGMAMR Filiala Argeș - ECPv5.9.1//NONSGML v1.0//EN
CALSCALE:GREGORIAN
METHOD:PUBLISH
X-WR-CALNAME:OAMGMAMR Filiala Argeș
X-ORIGINAL-URL:https://oammr-arges.ro
X-WR-CALDESC:Events for OAMGMAMR Filiala Argeș
BEGIN:VTIMEZONE
TZID:Europe/Moscow
BEGIN:STANDARD
TZOFFSETFROM:+0300
TZOFFSETTO:+0300
TZNAME:MSK
DTSTART:20220101T000000
END:STANDARD
END:VTIMEZONE
BEGIN:VEVENT
DTSTART;TZID=Europe/Moscow:20220727T153000
DTEND;TZID=Europe/Moscow:20220727T170000
DTSTAMP:20260422T095612
CREATED:20220712T065305Z
LAST-MODIFIED:20220712T065305Z
UID:2497-1658935800-1658941200@oammr-arges.ro
SUMMARY:NORME ȘI PRECAUȚIUNI STANDARD ÎN PREVENIREA ȘI MANAGEMENTUL INFECȚIILOR ASOCIATE 27.07.2022
DESCRIPTION:Tema: NORME ȘI PRECAUȚIUNI STANDARD ÎN PREVENIREA ȘI MANAGEMENTUL INFECȚIILOR ASOCIATE\n\n\nData cursului: 27.07.2022\, ora 15.30\n\n\nLocuri disponibile: 35\n\n\nNr. credite: 6\n\n\nLocație: Sediul OAMGMAMR Argeș\, Pitești\, str. Victoriei nr. 57
URL:https://oammr-arges.ro/event/norme-si-precautiuni-standard-in-prevenirea-si-managementul-infectiilor-asociate-27-07-2022/
LOCATION:Sediul OAMGMAMR Argeș\, Pitești\, str. Victoriei nr. 57\, România
CATEGORIES:Cursuri
END:VEVENT
END:VCALENDAR