BEGIN:VCALENDAR
VERSION:2.0
PRODID:-//OAMGMAMR Filiala Argeș - ECPv5.9.1//NONSGML v1.0//EN
CALSCALE:GREGORIAN
METHOD:PUBLISH
X-WR-CALNAME:OAMGMAMR Filiala Argeș
X-ORIGINAL-URL:https://oammr-arges.ro
X-WR-CALDESC:Events for OAMGMAMR Filiala Argeș
BEGIN:VTIMEZONE
TZID:Europe/Moscow
BEGIN:STANDARD
TZOFFSETFROM:+0300
TZOFFSETTO:+0300
TZNAME:MSK
DTSTART:20250101T000000
END:STANDARD
END:VTIMEZONE
BEGIN:VEVENT
DTSTART;TZID=Europe/Moscow:20250324T153000
DTEND;TZID=Europe/Moscow:20250324T153000
DTSTAMP:20260422T041818
CREATED:20250318T153603Z
LAST-MODIFIED:20250324T073903Z
UID:3550-1742830200-1742830200@oammr-arges.ro
SUMMARY:OAMGMAMR ARGEȘ organizează webinar-ul ”ACȚIUNILE ASISTENȚILOR MEDICALI ȘI IMPACTUL ACESTORA ÎN COMBATEREA TUBERCULOZEI”
DESCRIPTION:În contextul marcării Zilei Mondiale de Luptă Împotriva Tuberculozei\, OAMGMAMR Filiala Argeș organizează în data 24 martie 2025\, ora 15.30\, webinarul cu titlul  ”Acțiunile asistenților medicali și impactul acestora în combaterea tuberculozei”\, manifestare științifică înscrisă în seria campaniilor de prevenție derulate la nivelul filialei. \nMesajul promovat în acest an de OMS\, ”Da! Împreună putem stopa tuberculoza” reflectă amplificarea urgenței stopării tuberculozei\, cea mai devastatoare boală infecțioasă din lume. \nEvenimentul se desfășoară online\, pe platforma ZOOM și se adresează asistenților medicali din spitale\, inclusiv cele de pneumoftiziologie\, ambulatorii și cabinete de specialitate\, cabinete de medicină de familie. \nÎnscrierea participanților se face prin completarea formularului pus la dispoziție pe site-ul filialei în secțiunea Manifestări științifice\, în limita celor 150 de locuri disponibile. \nLa închiderea sesiunii de înscriere vor fi transmise pe adresele de e-mail ale participanților\, datele de autentificare (link-ul și parola). Precizăm faptul că vor primi confirmarea participării la webinar exclusiv persoanele înscrise\, autentificate cu numele și prenumele participantului (nu poate fi realizată identificarea utilizatorului cu alt tip de denumire: ”HUAWEI”\, ”GALAXY”\, ”SAMSUNG”\, ”IPHONE”\, etc.).   \nWebinarul va fi creditat cu credite EMC\, conform reglementărilor Normelor de creditare a formelor de educație medicală continuă. \n 
URL:https://oammr-arges.ro/event/oamgmamr-arges-organizeaza-webinar-ul-actiunile-asistentilor-medicali-si-impactul-acestora-in-combaterea-tuberculozei/
LOCATION:Online\, Zoom
CATEGORIES:Manifestari stiintifice
ATTACH;FMTTYPE=image/jpeg:https://oammr-arges.ro/wp-content/uploads/2025/03/World-TB-Day-2025_banner_Engelish-scaled.jpg
END:VEVENT
END:VCALENDAR