BEGIN:VCALENDAR
VERSION:2.0
PRODID:-//OAMGMAMR Filiala Argeș - ECPv5.9.1//NONSGML v1.0//EN
CALSCALE:GREGORIAN
METHOD:PUBLISH
X-WR-CALNAME:OAMGMAMR Filiala Argeș
X-ORIGINAL-URL:https://oammr-arges.ro
X-WR-CALDESC:Events for OAMGMAMR Filiala Argeș
BEGIN:VTIMEZONE
TZID:Europe/Moscow
BEGIN:STANDARD
TZOFFSETFROM:+0300
TZOFFSETTO:+0300
TZNAME:MSK
DTSTART:20250101T000000
END:STANDARD
END:VTIMEZONE
BEGIN:VEVENT
DTSTART;TZID=Europe/Moscow:20250407T153000
DTEND;TZID=Europe/Moscow:20250407T153000
DTSTAMP:20260422T054145
CREATED:20250331T063257Z
LAST-MODIFIED:20250401T054330Z
UID:3619-1744039800-1744039800@oammr-arges.ro
SUMMARY:OAMGMAMR Argeș organizează webinar-ul ”START CU SPERANȚĂ”
DESCRIPTION:Cu prilejul marcării Zilei Mondiale a Sănătății\, OAMGMAMR Filiala Argeș organizează în data 7 aprilie 2025\, ora 15.30\, webinarul cu titlul  „Start cu speranță”\, alăturând-se astfel promovării mesajului sub care se derulează campania lansată de OMS în acest an „Începuturi sănătoase\, viitor plin de speranță”\, lucrările științifice reflectând participarea asistenților medicali la sănătatea mamei și a nou-născutului. \nEvenimentul se desfășoară online\, pe platforma ZOOM\, înscrierea participanților se face prin completarea formularului pus la dispoziție pe site-ul filialei în secțiunea Manifestări științifice\, în limita celor 150 de locuri disponibile. \nLa închiderea sesiunii de înscriere vor fi transmise pe adresele de e-mail ale participanților\, datele de autentificare (link-ul și parola). \nPrecizăm faptul că vor primi confirmarea participării la webinar exclusiv persoanele înscrise\, autentificate cu numele și prenumele participantului (nu poate fi realizată identificarea utilizatorului cu alt tip de denumire: ”HUAWEI”\, ”GALAXY”\, ”SAMSUNG”\, ”IPHONE”\, etc.).   \n  \nWebinarul va fi creditat cu credite EMC\, conform reglementărilor Normelor de creditare a formelor de educație medicală continuă.
URL:https://oammr-arges.ro/event/oamgmamr-arges-organizeaza-webinar-ul-start-cu-speranta/
LOCATION:Online\, Zoom
CATEGORIES:Manifestari stiintifice
ATTACH;FMTTYPE=image/jpeg:https://oammr-arges.ro/wp-content/uploads/2025/03/WhatsApp-Image-2025-03-31-at-09.34.54.jpeg
END:VEVENT
END:VCALENDAR