BEGIN:VCALENDAR
VERSION:2.0
PRODID:-//OAMGMAMR Filiala Argeș - ECPv5.9.1//NONSGML v1.0//EN
CALSCALE:GREGORIAN
METHOD:PUBLISH
X-WR-CALNAME:OAMGMAMR Filiala Argeș
X-ORIGINAL-URL:https://oammr-arges.ro
X-WR-CALDESC:Events for OAMGMAMR Filiala Argeș
BEGIN:VTIMEZONE
TZID:UTC
BEGIN:STANDARD
TZOFFSETFROM:+0000
TZOFFSETTO:+0000
TZNAME:UTC
DTSTART:20190101T000000
END:STANDARD
END:VTIMEZONE
BEGIN:VEVENT
DTSTART;TZID=UTC:20190530T153000
DTEND;TZID=UTC:20190530T153000
DTSTAMP:20260424T100330
CREATED:20190429T134411Z
LAST-MODIFIED:20190430T060057Z
UID:1266-1559230200-1559230200@oammr-arges.ro
SUMMARY:PATOLOGIA PEDIATRICĂ 30.05.2019
DESCRIPTION:Tema: PATOLOGIA PEDIATRICĂ\nData cursului: 30.05.2019\, ora 15.30\nLocuri disponibile: 50\nTaxă participare: 0 lei\nNr. credite: 6\nLocație: Sediul OAMGMAMR Argeș\, Pitești\, str. Victoriei nr. 57
URL:https://oammr-arges.ro/event/patologia-pediatrica-30-05-2019/
LOCATION:Sediul OAMGMAMR Argeș\, Pitești\, str. Victoriei nr. 57\, România
CATEGORIES:Cursuri
END:VEVENT
END:VCALENDAR