BEGIN:VCALENDAR
VERSION:2.0
PRODID:-//OAMGMAMR Filiala Argeș - ECPv5.9.1//NONSGML v1.0//EN
CALSCALE:GREGORIAN
METHOD:PUBLISH
X-WR-CALNAME:OAMGMAMR Filiala Argeș
X-ORIGINAL-URL:https://oammr-arges.ro
X-WR-CALDESC:Events for OAMGMAMR Filiala Argeș
BEGIN:VTIMEZONE
TZID:Europe/Moscow
BEGIN:STANDARD
TZOFFSETFROM:+0300
TZOFFSETTO:+0300
TZNAME:MSK
DTSTART:20250101T000000
END:STANDARD
END:VTIMEZONE
BEGIN:VEVENT
DTSTART;TZID=Europe/Moscow:20250522T150000
DTEND;TZID=Europe/Moscow:20250522T150000
DTSTAMP:20260422T071542
CREATED:20250508T131609Z
LAST-MODIFIED:20250508T132602Z
UID:3649-1747926000-1747926000@oammr-arges.ro
SUMMARY:PRINCIPII DE CURĂȚENIE\, STERILIZARE\, DEZINFECȚIE ȘI IGIENA MÂINILOR
DESCRIPTION:Notă: Cursul se adresează exclusiv asistenților medicali din cadrul Spitalului de Pediatrie Pitești \n\n\n\nTema: PRINCIPII DE CURĂȚENIE\, STERILIZARE\, DEZINFECȚIE ȘI IGIENA MÂINILOR\n\n\nData cursului: 22.05.2025\, ora 15.00\n\n\nLocuri disponibile: 30\n\n\nNr. credite: 6\n\n\n\nLocație: Spitalul de Pediatrie Pitești
URL:https://oammr-arges.ro/event/principii-de-curatenie-sterilizare-dezinfectie-si-igiena-mainilor-22-05-2025/
LOCATION:Spitalul de Pediatrie Pitești
CATEGORIES:Cursuri
END:VEVENT
END:VCALENDAR