BEGIN:VCALENDAR
VERSION:2.0
PRODID:-//OAMGMAMR Filiala Argeș - ECPv5.9.1//NONSGML v1.0//EN
CALSCALE:GREGORIAN
METHOD:PUBLISH
X-WR-CALNAME:OAMGMAMR Filiala Argeș
X-ORIGINAL-URL:https://oammr-arges.ro
X-WR-CALDESC:Events for OAMGMAMR Filiala Argeș
BEGIN:VTIMEZONE
TZID:Europe/Moscow
BEGIN:STANDARD
TZOFFSETFROM:+0300
TZOFFSETTO:+0300
TZNAME:MSK
DTSTART:20240101T000000
END:STANDARD
END:VTIMEZONE
BEGIN:VEVENT
DTSTART;TZID=Europe/Moscow:20240207T153000
DTEND;TZID=Europe/Moscow:20240207T173000
DTSTAMP:20260421T193855
CREATED:20240205T045007Z
LAST-MODIFIED:20240205T132221Z
UID:2926-1707319800-1707327000@oammr-arges.ro
SUMMARY:PRINCIPII GENERALE DE ACORDARE A PRIMULUI AJUTOR-BLS - 07.02.2024
DESCRIPTION:Tema: PRINCIPII GENERALE DE ACORDARE A PRIMULUI AJUTOR-BLS\n\n\nData cursului: 07.02.2024\, ora 15.30\n\n\nLocuri disponibile: 16\n\n\nNr. credite: 6
URL:https://oammr-arges.ro/event/principii-generale-de-acordare-a-primului-ajutor-bls-07-02-2024/
LOCATION:Sediul OAMGMAMR Argeș\, Pitești\, str. Victoriei nr. 57\, România
CATEGORIES:Cursuri
END:VEVENT
END:VCALENDAR