BEGIN:VCALENDAR
VERSION:2.0
PRODID:-//OAMGMAMR Filiala Argeș - ECPv5.9.1//NONSGML v1.0//EN
CALSCALE:GREGORIAN
METHOD:PUBLISH
X-WR-CALNAME:OAMGMAMR Filiala Argeș
X-ORIGINAL-URL:https://oammr-arges.ro
X-WR-CALDESC:Events for OAMGMAMR Filiala Argeș
BEGIN:VTIMEZONE
TZID:Europe/Moscow
BEGIN:STANDARD
TZOFFSETFROM:+0300
TZOFFSETTO:+0300
TZNAME:MSK
DTSTART:20250101T000000
END:STANDARD
END:VTIMEZONE
BEGIN:VEVENT
DTSTART;TZID=Europe/Moscow:20251014T150000
DTEND;TZID=Europe/Moscow:20251014T150000
DTSTAMP:20260422T054053
CREATED:20251013T054332Z
LAST-MODIFIED:20251013T054332Z
UID:3839-1760454000-1760454000@oammr-arges.ro
SUMMARY:RESUSCITARE CARDIOPULMONARĂ-BLS 14.10.2025
DESCRIPTION:Notă: Cursul se adresează exclusiv asistenților medicali din cadrul Spitalului Orășenesc Mioveni\n\n\nTema: RESUSCITARE CARDIOPULMONARĂ-BLS\n\n\nData cursului: 14.10.2025\, ora 15.00\n\n\nLocuri disponibile: 25\n\n\nNr. credite: 6\n\n\nLocație: Spitalul Orășenesc Mioveni
URL:https://oammr-arges.ro/event/resuscitare-cardiopulmonara-bls-14-10-2025/
LOCATION:Spitalul Orășenesc Mioveni
CATEGORIES:Cursuri
END:VEVENT
END:VCALENDAR