BEGIN:VCALENDAR
VERSION:2.0
PRODID:-//OAMGMAMR Filiala Argeș - ECPv5.9.1//NONSGML v1.0//EN
CALSCALE:GREGORIAN
METHOD:PUBLISH
X-WR-CALNAME:OAMGMAMR Filiala Argeș
X-ORIGINAL-URL:https://oammr-arges.ro
X-WR-CALDESC:Events for OAMGMAMR Filiala Argeș
BEGIN:VTIMEZONE
TZID:Europe/Moscow
BEGIN:STANDARD
TZOFFSETFROM:+0300
TZOFFSETTO:+0300
TZNAME:MSK
DTSTART:20250101T000000
END:STANDARD
END:VTIMEZONE
BEGIN:VEVENT
DTSTART;TZID=Europe/Moscow:20250626T143000
DTEND;TZID=Europe/Moscow:20250626T143000
DTSTAMP:20260422T083424
CREATED:20250625T051230Z
LAST-MODIFIED:20250625T051422Z
UID:3739-1750948200-1750948200@oammr-arges.ro
SUMMARY:RESUSCITARE CARDIOPULMONARĂ-BLS 26.06.2025
DESCRIPTION:Notă: Cursul se adresează exclusiv asistenților medicali din cadrul Spitalului Orășenesc „Regele Carol I” Costești\n\n\nTema: RESUSCITARE CARDIOPULMONARĂ-BLS\n\n\nData cursului: 26.06.2025\, ora 14.30\n\n\nLocuri disponibile: 20\n\n\nNr. credite: 6\n\n\nLocație: Spitalul Orășenesc „Regele Carol I” Costești
URL:https://oammr-arges.ro/event/resuscitare-cardiopulmonara-bls-26-06-2025/
LOCATION:Spitalul Orășenesc „Regele Carol I” Costești
CATEGORIES:Cursuri
END:VEVENT
END:VCALENDAR