BEGIN:VCALENDAR
VERSION:2.0
PRODID:-//OAMGMAMR Filiala Argeș - ECPv5.9.1//NONSGML v1.0//EN
CALSCALE:GREGORIAN
METHOD:PUBLISH
X-WR-CALNAME:OAMGMAMR Filiala Argeș
X-ORIGINAL-URL:https://oammr-arges.ro
X-WR-CALDESC:Events for OAMGMAMR Filiala Argeș
BEGIN:VTIMEZONE
TZID:Europe/Moscow
BEGIN:STANDARD
TZOFFSETFROM:+0300
TZOFFSETTO:+0300
TZNAME:MSK
DTSTART:20250101T000000
END:STANDARD
END:VTIMEZONE
BEGIN:VEVENT
DTSTART;TZID=Europe/Moscow:20250606T153000
DTEND;TZID=Europe/Moscow:20250606T153000
DTSTAMP:20260422T125502
CREATED:20250514T113823Z
LAST-MODIFIED:20250514T113823Z
UID:3675-1749223800-1749223800@oammr-arges.ro
SUMMARY:RESUSCITARE CARDIOPULMONARĂ-BLS
DESCRIPTION:Notă: Cursul se adresează exclusiv asistenților medicali din cadrul Spitalului de Boli Cronice si Geriatrie „C.B. Stolnici” Ștefănești\n\n\nTema: RESUSCITARE CARDIOPULMONARĂ-BLS\n\n\nData cursului: 06.06.2025\, ora 15.30\n\n\nLocuri disponibile: 20\n\n\nNr. credite: 6\n\n\nLocație: Spitalul de Boli Cronice si Geriatrie „C.B. Stolnici” Ștefănești
URL:https://oammr-arges.ro/event/resuscitare-cardiopulmonara-bls-3/
LOCATION:Spitalul de Boli Cronice si Geriatrie „C.B. Stolnici” Ștefănești
CATEGORIES:Cursuri
END:VEVENT
END:VCALENDAR