BEGIN:VCALENDAR
VERSION:2.0
PRODID:-//OAMGMAMR Filiala Argeș - ECPv5.9.1//NONSGML v1.0//EN
CALSCALE:GREGORIAN
METHOD:PUBLISH
X-WR-CALNAME:OAMGMAMR Filiala Argeș
X-ORIGINAL-URL:https://oammr-arges.ro
X-WR-CALDESC:Events for OAMGMAMR Filiala Argeș
BEGIN:VTIMEZONE
TZID:UTC
BEGIN:STANDARD
TZOFFSETFROM:+0000
TZOFFSETTO:+0000
TZNAME:UTC
DTSTART:20180101T000000
END:STANDARD
END:VTIMEZONE
BEGIN:VEVENT
DTSTART;TZID=UTC:20181027T080000
DTEND;TZID=UTC:20181027T170000
DTSTAMP:20260425T055110
CREATED:20180927T171009Z
LAST-MODIFIED:20180930T154054Z
UID:896-1540627200-1540659600@oammr-arges.ro
SUMMARY:SECURITATEA TRANSFUZIONALĂ-OBIECTIV ESENȚIAL ÎN ACTIVITATEA ASISTENȚILOR MEDICALI DIN SPITALE
DESCRIPTION:Tema: SECURITATEA TRANSFUZIONALĂ-OBIECTIV ESENȚIAL ÎN ACTIVITATEA ASISTENȚILOR MEDICALI DIN SPITALE\n\n\nData cursului: 27.09.2018\, ora 15.30\n\n\nLocuri disponibile: 40\n\n\nTaxă participare: 0 lei\n\n\nNr. credite: 6\n\n\nLocație: Sediul OAMGMAMR Argeș\, Pitești\, str. Victoriei nr. 57
URL:https://oammr-arges.ro/event/securitatea-transfuzionala-obiectiv-esential-in-activitatea-asistentilor-medicali-din-spitale/
LOCATION:Sediul OAMGMAMR Argeș\, Pitești\, str. Victoriei nr. 57\, Pitesti
CATEGORIES:Cursuri
END:VEVENT
END:VCALENDAR