BEGIN:VCALENDAR
VERSION:2.0
PRODID:-//OAMGMAMR Filiala Argeș - ECPv5.9.1//NONSGML v1.0//EN
CALSCALE:GREGORIAN
METHOD:PUBLISH
X-WR-CALNAME:OAMGMAMR Filiala Argeș
X-ORIGINAL-URL:https://oammr-arges.ro
X-WR-CALDESC:Events for OAMGMAMR Filiala Argeș
BEGIN:VTIMEZONE
TZID:Europe/Moscow
BEGIN:STANDARD
TZOFFSETFROM:+0300
TZOFFSETTO:+0300
TZNAME:MSK
DTSTART:20190101T000000
END:STANDARD
END:VTIMEZONE
BEGIN:VEVENT
DTSTART;TZID=Europe/Moscow:20190605T153000
DTEND;TZID=Europe/Moscow:20190605T153000
DTSTAMP:20260424T084248
CREATED:20190522T064430Z
LAST-MODIFIED:20190522T064430Z
UID:1365-1559748600-1559748600@oammr-arges.ro
SUMMARY:Simpozion ÎMPREUNĂ PENTRU O GENERAȚIE SĂNĂTOASĂ 05.06.2019
DESCRIPTION:NOTA BENE:Primirea participanților se face în intervalul orar 15.00-15.30\nData: 05.06.2019\, ora 15.30\nLocuri disponibile: 150\nNr. credite: 9\nLocație: Pitești\, Hotel Victoria
URL:https://oammr-arges.ro/event/simpozion-impreuna-pentru-o-generatie-sanatoasa-05-06-2019/
LOCATION:Pitești\, Hotel Victoria
CATEGORIES:Manifestari stiintifice
END:VEVENT
END:VCALENDAR