BEGIN:VCALENDAR
VERSION:2.0
PRODID:-//OAMGMAMR Filiala Argeș - ECPv5.9.1//NONSGML v1.0//EN
CALSCALE:GREGORIAN
METHOD:PUBLISH
X-WR-CALNAME:OAMGMAMR Filiala Argeș
X-ORIGINAL-URL:https://oammr-arges.ro
X-WR-CALDESC:Events for OAMGMAMR Filiala Argeș
BEGIN:VTIMEZONE
TZID:Europe/Moscow
BEGIN:STANDARD
TZOFFSETFROM:+0300
TZOFFSETTO:+0300
TZNAME:MSK
DTSTART:20190101T000000
END:STANDARD
END:VTIMEZONE
BEGIN:VEVENT
DTSTART;TZID=Europe/Moscow:20190806T153000
DTEND;TZID=Europe/Moscow:20190806T153000
DTSTAMP:20260423T020158
CREATED:20190725T162636Z
LAST-MODIFIED:20190725T162636Z
UID:1479-1565105400-1565105400@oammr-arges.ro
SUMMARY:Simpozion ÎMPREUNĂ PROMOVĂM ALĂPTAREA ! 06.08.2019
DESCRIPTION:NOTA BENE:Primirea participanților se face în intervalul orar 15.00-15.30\nData: 06.08.2019\, ora 15.30\nLocuri disponibile: 250\nLocație: Pitești\, Hotel Victoria
URL:https://oammr-arges.ro/event/simpozion-impreuna-promovam-alaptarea-06-08-2019/
LOCATION:Pitești\, Hotel Victoria
CATEGORIES:Manifestari stiintifice
END:VEVENT
END:VCALENDAR