BEGIN:VCALENDAR
VERSION:2.0
PRODID:-//OAMGMAMR Filiala Argeș - ECPv5.9.1//NONSGML v1.0//EN
CALSCALE:GREGORIAN
METHOD:PUBLISH
X-WR-CALNAME:OAMGMAMR Filiala Argeș
X-ORIGINAL-URL:https://oammr-arges.ro
X-WR-CALDESC:Events for OAMGMAMR Filiala Argeș
BEGIN:VTIMEZONE
TZID:Europe/Moscow
BEGIN:STANDARD
TZOFFSETFROM:+0300
TZOFFSETTO:+0300
TZNAME:MSK
DTSTART:20190101T000000
END:STANDARD
END:VTIMEZONE
BEGIN:VEVENT
DTSTART;TZID=Europe/Moscow:20190625T153000
DTEND;TZID=Europe/Moscow:20190625T153000
DTSTAMP:20260423T220906
CREATED:20190604T194313Z
LAST-MODIFIED:20190605T083256Z
UID:1379-1561476600-1561476600@oammr-arges.ro
SUMMARY:Tema: CANCERUL DE COL UTERIN 25.06.2019
DESCRIPTION:Tema: CANCERUL DE COL UTERIN\nData cursului: 25.06.2019\, ora 15.30\nLocuri disponibile: 50\nNr. credite: 6\nLocație: Sediul OAMGMAMR Argeș\, Pitești\, str. Victoriei nr. 57
URL:https://oammr-arges.ro/event/tema-cancerul-de-col-uterin-25-06-2019/
LOCATION:Sediul OAMGMAMR Argeș\, Pitești\, str. Victoriei nr. 57\, România
CATEGORIES:Cursuri
END:VEVENT
END:VCALENDAR