BEGIN:VCALENDAR
VERSION:2.0
PRODID:-//OAMGMAMR Filiala Argeș - ECPv5.9.1//NONSGML v1.0//EN
CALSCALE:GREGORIAN
METHOD:PUBLISH
X-WR-CALNAME:OAMGMAMR Filiala Argeș
X-ORIGINAL-URL:https://oammr-arges.ro
X-WR-CALDESC:Events for OAMGMAMR Filiala Argeș
BEGIN:VTIMEZONE
TZID:Europe/Moscow
BEGIN:STANDARD
TZOFFSETFROM:+0300
TZOFFSETTO:+0300
TZNAME:MSK
DTSTART:20190101T000000
END:STANDARD
END:VTIMEZONE
BEGIN:VEVENT
DTSTART;TZID=Europe/Moscow:20191204T153000
DTEND;TZID=Europe/Moscow:20191204T153000
DTSTAMP:20260422T083036
CREATED:20191126T200816Z
LAST-MODIFIED:20191126T200816Z
UID:1582-1575473400-1575473400@oammr-arges.ro
SUMMARY:Tema: PREVENIREA CANCERULUI DE COL UTERIN 04.12.2019
DESCRIPTION:Tema: PREVENIREA CANCERULUI DE COL UTERIN\nData cursului: 04.12.2019\, ora 15.30\nLocuri disponibile: 50\nNr. credite: 6\nLocație: Sediul OAMGMAMR Argeș\, Pitești\, str. Victoriei nr. 57
URL:https://oammr-arges.ro/event/tema-prevenirea-cancerului-de-col-uterin-04-12-2019/
LOCATION:Sediul OAMGMAMR Argeș\, Pitești\, str. Victoriei nr. 57\, România
CATEGORIES:Cursuri
END:VEVENT
END:VCALENDAR