BEGIN:VCALENDAR
VERSION:2.0
PRODID:-//OAMGMAMR Filiala Argeș - ECPv5.9.1//NONSGML v1.0//EN
CALSCALE:GREGORIAN
METHOD:PUBLISH
X-WR-CALNAME:OAMGMAMR Filiala Argeș
X-ORIGINAL-URL:https://oammr-arges.ro
X-WR-CALDESC:Events for OAMGMAMR Filiala Argeș
BEGIN:VTIMEZONE
TZID:Europe/Moscow
BEGIN:STANDARD
TZOFFSETFROM:+0300
TZOFFSETTO:+0300
TZNAME:MSK
DTSTART:20190101T000000
END:STANDARD
END:VTIMEZONE
BEGIN:VEVENT
DTSTART;TZID=Europe/Moscow:20191121T153000
DTEND;TZID=Europe/Moscow:20191121T153000
DTSTAMP:20260422T100928
CREATED:20191118T135518Z
LAST-MODIFIED:20191118T135518Z
UID:1577-1574350200-1574350200@oammr-arges.ro
SUMMARY:Tema: PRIMUL AJUTOR ÎN CAZ DE POLITRAUMĂ ȘI DEZASTRE  21.11.2019
DESCRIPTION:Tema: PRIMUL AJUTOR ÎN CAZ DE POLITRAUMĂ ȘI DEZASTRE\nData cursului: 21.11.2019\, ora 15.30\nLocuri disponibile: 50\nNr. credite: 6\nLocație: Școala ”C.D.Aricescu” (Școala Generală nr. 2) Câmpulung
URL:https://oammr-arges.ro/event/tema-primul-ajutor-in-caz-de-politrauma-si-dezastre-21-11-2019/
LOCATION:Școala ”C.D.Aricescu” (Școala Generală nr. 2) Câmpulung
CATEGORIES:Cursuri
END:VEVENT
END:VCALENDAR