BEGIN:VCALENDAR
VERSION:2.0
PRODID:-//OAMGMAMR Filiala Argeș - ECPv5.9.1//NONSGML v1.0//EN
CALSCALE:GREGORIAN
METHOD:PUBLISH
X-WR-CALNAME:OAMGMAMR Filiala Argeș
X-ORIGINAL-URL:https://oammr-arges.ro
X-WR-CALDESC:Events for OAMGMAMR Filiala Argeș
BEGIN:VTIMEZONE
TZID:Europe/Moscow
BEGIN:STANDARD
TZOFFSETFROM:+0300
TZOFFSETTO:+0300
TZNAME:MSK
DTSTART:20190101T000000
END:STANDARD
END:VTIMEZONE
BEGIN:VEVENT
DTSTART;TZID=Europe/Moscow:20190715T153000
DTEND;TZID=Europe/Moscow:20190715T153000
DTSTAMP:20260423T151454
CREATED:20190628T200243Z
LAST-MODIFIED:20190628T200243Z
UID:1440-1563204600-1563204600@oammr-arges.ro
SUMMARY:Tema: PRIMUL AJUTOR ÎN CAZ DE POLITRAUMATISME ȘI DEZASTRE 15.07.2019
DESCRIPTION:Tema: PRIMUL AJUTOR ÎN CAZ DE POLITRAUMATISME ȘI DEZASTRE\nData cursului: 15.07.2019\, ora 15.30\nLocuri disponibile: 50\nNr. credite: 6\nLocație: Școala ”C.D.Aricescu” (Școala Generală nr. 2) Câmpulung
URL:https://oammr-arges.ro/event/tema-primul-ajutor-in-caz-de-politraumatisme-si-dezastre-15-07-2019/
LOCATION:Școala ”C.D.Aricescu” (Școala Generală nr. 2) Câmpulung
CATEGORIES:Cursuri
END:VEVENT
END:VCALENDAR