BEGIN:VCALENDAR
VERSION:2.0
PRODID:-//OAMGMAMR Filiala Argeș - ECPv5.9.1//NONSGML v1.0//EN
CALSCALE:GREGORIAN
METHOD:PUBLISH
X-WR-CALNAME:OAMGMAMR Filiala Argeș
X-ORIGINAL-URL:https://oammr-arges.ro
X-WR-CALDESC:Events for OAMGMAMR Filiala Argeș
BEGIN:VTIMEZONE
TZID:Europe/Moscow
BEGIN:STANDARD
TZOFFSETFROM:+0300
TZOFFSETTO:+0300
TZNAME:MSK
DTSTART:20200101T000000
END:STANDARD
END:VTIMEZONE
BEGIN:VEVENT
DTSTART;TZID=Europe/Moscow:20200123T153000
DTEND;TZID=Europe/Moscow:20200123T153000
DTSTAMP:20260422T024926
CREATED:20200120T074428Z
LAST-MODIFIED:20200120T074428Z
UID:1657-1579793400-1579793400@oammr-arges.ro
SUMMARY:Tema: PRINCIPII FARMACOLOGICE ȘI ROLUL ASISTENTULUI MEDICAL ÎN ADMINISTRAREA MEDICAMENTELOR 23.01.2020
DESCRIPTION:Tema: PRINCIPII FARMACOLOGICE ȘI ROLUL ASISTENTULUI MEDICAL ÎN ADMINISTRAREA MEDICAMENTELOR\nData cursului: 23.01.2020\, ora 15.30\nLocuri disponibile: 40\nNr. credite: 6\nLocație: Școala ”C.D.Aricescu” (Școala Generală nr. 2) Câmpulung
URL:https://oammr-arges.ro/event/tema-principii-farmacologice-si-rolul-asistentului-medical-in-administrarea-medicamentelor-23-01-2020/
LOCATION:Școala ”C.D.Aricescu” (Școala Generală nr. 2) Câmpulung
CATEGORIES:Cursuri
END:VEVENT
END:VCALENDAR