BEGIN:VCALENDAR
VERSION:2.0
PRODID:-//OAMGMAMR Filiala Argeș - ECPv5.9.1//NONSGML v1.0//EN
CALSCALE:GREGORIAN
METHOD:PUBLISH
X-WR-CALNAME:OAMGMAMR Filiala Argeș
X-ORIGINAL-URL:https://oammr-arges.ro
X-WR-CALDESC:Events for OAMGMAMR Filiala Argeș
BEGIN:VTIMEZONE
TZID:Europe/Moscow
BEGIN:STANDARD
TZOFFSETFROM:+0300
TZOFFSETTO:+0300
TZNAME:MSK
DTSTART:20190101T000000
END:STANDARD
END:VTIMEZONE
BEGIN:VEVENT
DTSTART;TZID=Europe/Moscow:20190719T153000
DTEND;TZID=Europe/Moscow:20190719T153000
DTSTAMP:20260423T100643
CREATED:20190628T200614Z
LAST-MODIFIED:20190628T200614Z
UID:1448-1563550200-1563550200@oammr-arges.ro
SUMMARY:Tema: PRINCIPII GENERALE DE ACORDARE A PRIMULUI AJUTOR 19.07.2019
DESCRIPTION:Tema: PRINCIPII GENERALE DE ACORDARE A PRIMULUI AJUTOR\nData cursului: 19.07.2019\, ora 15.30\nLocuri disponibile: 50\nNr. credite: 6\nLocație: Sediul OAMGMAMR Argeș\, Pitești\, str. Victoriei nr. 57
URL:https://oammr-arges.ro/event/tema-principii-generale-de-acordare-a-primului-ajutor-19-07-2019/
LOCATION:Sediul OAMGMAMR Argeș\, Pitești\, str. Victoriei nr. 57\, România
CATEGORIES:Cursuri
END:VEVENT
END:VCALENDAR