BEGIN:VCALENDAR
VERSION:2.0
PRODID:-//OAMGMAMR Filiala Argeș - ECPv5.9.1//NONSGML v1.0//EN
CALSCALE:GREGORIAN
METHOD:PUBLISH
X-WR-CALNAME:OAMGMAMR Filiala Argeș
X-ORIGINAL-URL:https://oammr-arges.ro
X-WR-CALDESC:Events for OAMGMAMR Filiala Argeș
BEGIN:VTIMEZONE
TZID:Europe/Moscow
BEGIN:STANDARD
TZOFFSETFROM:+0300
TZOFFSETTO:+0300
TZNAME:MSK
DTSTART:20190101T000000
END:STANDARD
END:VTIMEZONE
BEGIN:VEVENT
DTSTART;TZID=Europe/Moscow:20190626T153000
DTEND;TZID=Europe/Moscow:20190626T153000
DTSTAMP:20260423T202108
CREATED:20190604T194457Z
LAST-MODIFIED:20190619T112547Z
UID:1384-1561563000-1561563000@oammr-arges.ro
SUMMARY:Tema: PRINCIPII GENERALE DE ACORDARE A PRIMULUI AJUTOR 26.06.2019
DESCRIPTION:Tema: PRINCIPII GENERALE DE ACORDARE A PRIMULUI AJUTOR\nData cursului: 26.06.2019\, ora 15.30\nLocuri disponibile: 50\nTaxă participare: 0 lei\nNr. credite: 6\nLocație: Școala ”C.D.Aricescu” (Școala Generală nr. 2) Câmpulung
URL:https://oammr-arges.ro/event/tema-principii-generale-de-acordare-a-primului-ajutor-26-06-2019/
LOCATION:Școala ”C.D.Aricescu” (Școala Generală nr. 2) Câmpulung
CATEGORIES:Cursuri
END:VEVENT
END:VCALENDAR