BEGIN:VCALENDAR
VERSION:2.0
PRODID:-//OAMGMAMR Filiala Argeș - ECPv5.9.1//NONSGML v1.0//EN
CALSCALE:GREGORIAN
METHOD:PUBLISH
X-WR-CALNAME:OAMGMAMR Filiala Argeș
X-ORIGINAL-URL:https://oammr-arges.ro
X-WR-CALDESC:Events for OAMGMAMR Filiala Argeș
BEGIN:VTIMEZONE
TZID:Europe/Moscow
BEGIN:STANDARD
TZOFFSETFROM:+0300
TZOFFSETTO:+0300
TZNAME:MSK
DTSTART:20190101T000000
END:STANDARD
END:VTIMEZONE
BEGIN:VEVENT
DTSTART;TZID=Europe/Moscow:20190610T153000
DTEND;TZID=Europe/Moscow:20190610T153000
DTSTAMP:20260424T071552
CREATED:20190604T193708Z
LAST-MODIFIED:20190607T075547Z
UID:1369-1560180600-1560180600@oammr-arges.ro
SUMMARY:Tema: RELAȚII DE COMUNICARE INTERPERSONALE ȘI DE COMUNICARE CU PACIENTUL 10.06.2019
DESCRIPTION:NOTA BENE: Cursul se adresează exclusiv asistenților medicali din Spitalul Orășenesc ”Sf. Spiridon” Mioveni\nTema: RELAȚII DE COMUNICARE INTERPERSONALE ȘI DE COMUNICARE CU PACIENTUL\nData cursului: 10.06.2019\, ora 15.30\nLocuri disponibile: 50\nNr. credite: 6\nLocație: SALA DE ȘEDINȚE A PRIMĂRIEI ORAȘULUI MIOVENI
URL:https://oammr-arges.ro/event/tema-relatii-de-comunicare-interpersonale-si-de-comunicare-cu-pacientul-10-06-2019/
LOCATION:SALA DE ȘEDINȚE A PRIMĂRIEI ORAȘULUI MIOVENI
CATEGORIES:Cursuri
END:VEVENT
END:VCALENDAR