BEGIN:VCALENDAR
VERSION:2.0
PRODID:-//OAMGMAMR Filiala Argeș - ECPv5.9.1//NONSGML v1.0//EN
CALSCALE:GREGORIAN
METHOD:PUBLISH
X-WR-CALNAME:OAMGMAMR Filiala Argeș
X-ORIGINAL-URL:https://oammr-arges.ro
X-WR-CALDESC:Events for OAMGMAMR Filiala Argeș
BEGIN:VTIMEZONE
TZID:Europe/Moscow
BEGIN:STANDARD
TZOFFSETFROM:+0300
TZOFFSETTO:+0300
TZNAME:MSK
DTSTART:20250101T000000
END:STANDARD
END:VTIMEZONE
BEGIN:VEVENT
DTSTART;TZID=Europe/Moscow:20250318T153000
DTEND;TZID=Europe/Moscow:20250318T153000
DTSTAMP:20260422T085220
CREATED:20250305T153621Z
LAST-MODIFIED:20250305T153721Z
UID:3495-1742311800-1742311800@oammr-arges.ro
SUMMARY:Tema: RESUSCITARE CARDIOPULMONARĂ-BLS 18.03.2025
DESCRIPTION:Notă: Cursul se adresează exclusiv asistenților medicali din cadrul Spitalului de Recuperare Respiratorie și Pneumologie „Sf. Andrei” Valea Iașului \n\n\n\nData cursului: 18.03.2025\, ora 15.30\n\n\nLocuri disponibile: 25\n\n\nNr. credite: 6\n\n\nLocație: Spitalul de Recuperare Respiratorie și Pneumologie „Sf. Andrei” Valea Iașului
URL:https://oammr-arges.ro/event/tema-resuscitare-cardiopulmonara-bls-18-03-2025/
LOCATION:Spitalul de Recuperare Respiratorie și Pneumologie „Sf. Andrei” Valea Iașului
CATEGORIES:Cursuri
END:VEVENT
END:VCALENDAR