BEGIN:VCALENDAR
VERSION:2.0
PRODID:-//OAMGMAMR Filiala Argeș - ECPv5.9.1//NONSGML v1.0//EN
CALSCALE:GREGORIAN
METHOD:PUBLISH
X-WR-CALNAME:OAMGMAMR Filiala Argeș
X-ORIGINAL-URL:https://oammr-arges.ro
X-WR-CALDESC:Events for OAMGMAMR Filiala Argeș
BEGIN:VTIMEZONE
TZID:Europe/Moscow
BEGIN:STANDARD
TZOFFSETFROM:+0300
TZOFFSETTO:+0300
TZNAME:MSK
DTSTART:20190101T000000
END:STANDARD
END:VTIMEZONE
BEGIN:VEVENT
DTSTART;TZID=Europe/Moscow:20190622T093000
DTEND;TZID=Europe/Moscow:20190622T093000
DTSTAMP:20260424T021954
CREATED:20190610T051116Z
LAST-MODIFIED:20190610T051116Z
UID:1401-1561195800-1561195800@oammr-arges.ro
SUMMARY:Tema: SEMIOLOGIA DIGESTIVĂ 22.06.2019
DESCRIPTION:Tema: SEMIOLOGIA DIGESTIVĂ\nData cursului: 22.06.2019\, ora 9.30 Atenție la ora desfășurării cursului !!!\nLocuri disponibile: 50\nNr. credite: 6\nLocație: Sediul OAMGMAMR Argeș\, Pitești\, str. Victoriei nr. 57
URL:https://oammr-arges.ro/event/tema-semiologia-digestiva-22-06-2019/
LOCATION:Sediul OAMGMAMR Argeș\, Pitești\, str. Victoriei nr. 57\, România
CATEGORIES:Cursuri
END:VEVENT
END:VCALENDAR