BEGIN:VCALENDAR
VERSION:2.0
PRODID:-//OAMGMAMR Filiala Argeș - ECPv5.9.1//NONSGML v1.0//EN
CALSCALE:GREGORIAN
METHOD:PUBLISH
X-WR-CALNAME:OAMGMAMR Filiala Argeș
X-ORIGINAL-URL:https://oammr-arges.ro
X-WR-CALDESC:Events for OAMGMAMR Filiala Argeș
BEGIN:VTIMEZONE
TZID:Europe/Moscow
BEGIN:STANDARD
TZOFFSETFROM:+0300
TZOFFSETTO:+0300
TZNAME:MSK
DTSTART:20190101T000000
END:STANDARD
END:VTIMEZONE
BEGIN:VEVENT
DTSTART;TZID=Europe/Moscow:20190622T140000
DTEND;TZID=Europe/Moscow:20190622T140000
DTSTAMP:20260423T233159
CREATED:20190610T051224Z
LAST-MODIFIED:20190610T051224Z
UID:1403-1561212000-1561212000@oammr-arges.ro
SUMMARY:Tema: SIGURANȚA PACIENTULUI ÎN ACORDAREA ÎNGRIJIRILOR MEDICALE 22.06.2019
DESCRIPTION:Tema: SIGURANȚA PACIENTULUI ÎN ACORDAREA ÎNGRIJIRILOR MEDICALE\nData cursului: 22.06.2019\, ora 14.00 Atenție la ora desfășurării cursului !!!\nLocuri disponibile: 50\nNr. credite: 6\nLocație: Sediul OAMGMAMR Argeș\, Pitești\, str. Victoriei nr. 57
URL:https://oammr-arges.ro/event/tema-siguranta-pacientului-in-acordarea-ingrijirilor-medicale-22-06-2019/
CATEGORIES:Cursuri
END:VEVENT
END:VCALENDAR