BEGIN:VCALENDAR
VERSION:2.0
PRODID:-//OAMGMAMR Filiala Argeș - ECPv5.9.1//NONSGML v1.0//EN
CALSCALE:GREGORIAN
METHOD:PUBLISH
X-WR-CALNAME:OAMGMAMR Filiala Argeș
X-ORIGINAL-URL:https://oammr-arges.ro
X-WR-CALDESC:Events for OAMGMAMR Filiala Argeș
BEGIN:VTIMEZONE
TZID:Europe/Moscow
BEGIN:STANDARD
TZOFFSETFROM:+0300
TZOFFSETTO:+0300
TZNAME:MSK
DTSTART:20190101T000000
END:STANDARD
END:VTIMEZONE
BEGIN:VEVENT
DTSTART;TZID=Europe/Moscow:20190626T153000
DTEND;TZID=Europe/Moscow:20190626T153000
DTSTAMP:20260423T215526
CREATED:20190604T194405Z
LAST-MODIFIED:20190604T194405Z
UID:1381-1561563000-1561563000@oammr-arges.ro
SUMMARY:Tema: TROMBOLIZA ÎN AVC-UL ISCHEMIC ACUT 26.06.2019
DESCRIPTION:Tema: TROMBOLIZA ÎN AVC-UL ISCHEMIC ACUT\nData cursului: 26.06.2019\, ora 15.30\nLocuri disponibile: 50\nNr. credite: 6\nLocație: Curtea de Argeș\, Spitalul Municipal Curtea de Argeș
URL:https://oammr-arges.ro/event/tema-tromboliza-in-avc-ul-ischemic-acut-26-06-2019/
LOCATION:Spitalul Municipal Curtea de Argeș
CATEGORIES:Cursuri
END:VEVENT
END:VCALENDAR