BEGIN:VCALENDAR
VERSION:2.0
PRODID:-//OAMGMAMR Filiala Argeș - ECPv5.9.1//NONSGML v1.0//EN
CALSCALE:GREGORIAN
METHOD:PUBLISH
X-WR-CALNAME:OAMGMAMR Filiala Argeș
X-ORIGINAL-URL:https://oammr-arges.ro
X-WR-CALDESC:Events for OAMGMAMR Filiala Argeș
BEGIN:VTIMEZONE
TZID:Europe/Moscow
BEGIN:STANDARD
TZOFFSETFROM:+0300
TZOFFSETTO:+0300
TZNAME:MSK
DTSTART:20190101T000000
END:STANDARD
END:VTIMEZONE
BEGIN:VEVENT
DTSTART;TZID=Europe/Moscow:20190719T153000
DTEND;TZID=Europe/Moscow:20190719T153000
DTSTAMP:20260423T111737
CREATED:20190628T200531Z
LAST-MODIFIED:20190628T200531Z
UID:1446-1563550200-1563550200@oammr-arges.ro
SUMMARY:Tema: URGENȚE MEDICO-CHIRURGICALE 19.07.2019
DESCRIPTION:Tema: URGENȚE MEDICO-CHIRURGICALE\nData cursului: 19.07.2019\, ora 15.30\nLocuri disponibile: 50\nNr. credite: 6\nLocație: Centrul Cultural Mioveni
URL:https://oammr-arges.ro/event/tema-urgente-medico-chirurgicale-19-07-2019/
LOCATION:Centrul Cultural Mioveni
CATEGORIES:Cursuri
END:VEVENT
END:VCALENDAR