BEGIN:VCALENDAR
VERSION:2.0
PRODID:-//OAMGMAMR Filiala Argeș - ECPv5.9.1//NONSGML v1.0//EN
CALSCALE:GREGORIAN
METHOD:PUBLISH
X-WR-CALNAME:OAMGMAMR Filiala Argeș
X-ORIGINAL-URL:https://oammr-arges.ro
X-WR-CALDESC:Events for OAMGMAMR Filiala Argeș
BEGIN:VTIMEZONE
TZID:Europe/Moscow
BEGIN:STANDARD
TZOFFSETFROM:+0300
TZOFFSETTO:+0300
TZNAME:MSK
DTSTART:20190101T000000
END:STANDARD
END:VTIMEZONE
BEGIN:VEVENT
DTSTART;TZID=Europe/Moscow:20191129T153000
DTEND;TZID=Europe/Moscow:20191129T153000
DTSTAMP:20260422T082843
CREATED:20191113T104456Z
LAST-MODIFIED:20191113T104456Z
UID:1572-1575041400-1575041400@oammr-arges.ro
SUMMARY:Tema: URGENȚE MEDICO-CHIRURGICALE 29.11.2019
DESCRIPTION:Tema: URGENȚE MEDICO-CHIRURGICALE 29.11.2019\nData cursului: 29.11.2019\, ora 15.30\nLocuri disponibile: 50\nNr. credite: 6\nLocație: Școala ”C.D.Aricescu” (Școala Generală nr. 2) Câmpulung
URL:https://oammr-arges.ro/event/tema-urgente-medico-chirurgicale-29-11-2019/
LOCATION:Școala ”C.D.Aricescu” (Școala Generală nr. 2) Câmpulung
CATEGORIES:Cursuri
END:VEVENT
END:VCALENDAR